BEGIN:VCALENDAR
VERSION:2.0
PRODID:-//eventon.com NONSGML v1.0//EN
CALSCALE:GREGORIAN
METHOD:PUBLISH
BEGIN:VEVENT
UID:69e609e6393a2
DTSTAMP:20260420T111134Z
DTSTART:20240217T143000Z
DTEND:20240217T152000Z
LOCATION:Centre Culturel Robert Delefosse Rue des Arts 59139 Wattignies
SUMMARY:« Concerto désaccordé » - Spectacle jeune public
DESCRIPTION:La grande Diva Olga Pétrovna Vaniskaïa se présente pour son 
 récital de piano\,  accompagnée par son fidèle Igor\,  homme à tout fai
 re. Mais le piano n’est pas là\,  la Diva déraille et Igor s’en mêle
 &#8230; « Concerto désaccordé » par la Compagnie de Lyse Une aventure m
 usicale et clownesque! En[..]\nhttps://ideesorties.fr/events/concerto-desac
 corde-spectacle-jeune-public/
URL:https://ideesorties.fr/events/concerto-desaccorde-spectacle-jeune-public/
END:VEVENT
END:VCALENDAR