BEGIN:VCALENDAR
VERSION:2.0
PRODID:-//eventon.com NONSGML v1.0//EN
CALSCALE:GREGORIAN
METHOD:PUBLISH
BEGIN:VEVENT
UID:69e5e3ba91bbe
DTSTAMP:20260420T082842Z
DTSTART:20240210T090000Z
DTEND:20240210T110000Z
LOCATION:Ferme d&#039;en Haut 268 rue Jules-Guesde 59650 Villeneuve-d&#039;Ascq
SUMMARY:Atelier Réalisez une lessive et un nettoyant multi-usage
DESCRIPTION:Samedi 10 février 2024\,  de 10h à 12h à la Ferme d’en Hau
 t. Samedi 10 février 2024\,  de 10h à 12h à la Ferme d’en Haut. Décou
 vrez aux côtés de Sophie les avantages du faire soi-même avec quels uste
 nsiles et ingrédients nécessaires. Vous pourrez ramener à la maison vos 
 réalisations.[..]\nhttps://ideesorties.fr/events/atelier-realisez-une-less
 ive-et-un-nettoyant-multi-usage/
URL:https://ideesorties.fr/events/atelier-realisez-une-lessive-et-un-nettoyant-multi-usage/
END:VEVENT
END:VCALENDAR