BEGIN:VCALENDAR
VERSION:2.0
PRODID:-//eventon.com NONSGML v1.0//EN
CALSCALE:GREGORIAN
METHOD:PUBLISH
BEGIN:VEVENT
UID:69e73bab8a11d
DTSTAMP:20260421T085611Z
DTSTART:20240211T140000Z
DTEND:20240211T170000Z
LOCATION:Le Flow 1 rue de Fontenoy 59000
SUMMARY:Hip Open Dance : Tant que tu danses
DESCRIPTION:Battle par Ma2t et Lena Cayrade Dimanche 11 février &#8211; 15
 h Gratuit &#8211; sous réserve des places disponibles Le Flow &#8211; Gran
 de Salle &#8212;&#8212;&#8211; Un dimanche consacré à la diversité de la
  danse hip-hop\,  aussi bien à travers ses différents styles que son côt
 é poétique avec un battle all style[..]\nhttps://ideesorties.fr/events/hi
 p-open-dance-tant-que-tu-danses/
URL:https://ideesorties.fr/events/hip-open-dance-tant-que-tu-danses/
END:VEVENT
END:VCALENDAR