BEGIN:VCALENDAR
VERSION:2.0
PRODID:-//eventon.com NONSGML v1.0//EN
CALSCALE:GREGORIAN
METHOD:PUBLISH
BEGIN:VEVENT
UID:69ecbd6a102c3
DTSTAMP:20260425T131106Z
DTSTART:20260508T043000Z
DTEND:20260508T163000Z
LOCATION:cité du hainaut Rue leons delens capucine 59680 Ferrière-la-Grande cité du hainaut Rue leons delens capucine 59680 Ferrière-la-Grande
SUMMARY:Brocante de la Cité du Hainaut : Rendez-vous le 8 mai à Ferrière-la-Grande
DESCRIPTION:Le vendredi 8 mai 2026\,  la ville de Ferrière-la-Grande s&rsq
 uo;animera à l&rsquo;occasion de sa traditionnelle brocante de printemps. 
 Situé au cœur de la Cité du Hainaut\,  entre la rue Léon Delens et la r
 ue des Capucines\,  cet événement est devenu une étape incontournable po
 ur les amateurs de chine et de[..]\nhttps://ideesorties.fr/events/brocante-
 de-la-cite-du-hainaut-rendez-vous-le-8-mai-a-ferriere-la-grande/
URL:https://ideesorties.fr/events/brocante-de-la-cite-du-hainaut-rendez-vous-le-8-mai-a-ferriere-la-grande/
END:VEVENT
END:VCALENDAR