BEGIN:VCALENDAR
VERSION:2.0
PRODID:-//eventon.com NONSGML v1.0//EN
CALSCALE:GREGORIAN
METHOD:PUBLISH
BEGIN:VEVENT
UID:69ecbbda2f4e9
DTSTAMP:20260425T130426Z
DTSTART:20260805T060000Z
DTEND:20260806T210000Z
LOCATION:Centre-ville de Lille Centre-ville de Lille
SUMMARY:La Braderie de Lille 2026\,  le plus grand vide-grenier d'Europe est de retour !
DESCRIPTION:Le premier week-end de septembre\,  la capitale des Flandres se
  métamorphose pour accueillir un événement légendaire : la Braderie de 
 Lille. Les samedi 5 et dimanche 6 septembre 2026\,  le centre-ville vibrera
  au rythme de la chine\,  des échanges et de la convivialité propre au No
 rd. Un périmètre historique et[..]\nhttps://ideesorties.fr/events/la-brad
 erie-de-lille-2026-le-plus-grand-vide-grenier-deurope-est-de-retour/
URL:https://ideesorties.fr/events/la-braderie-de-lille-2026-le-plus-grand-vide-grenier-deurope-est-de-retour/
END:VEVENT
END:VCALENDAR