BEGIN:VCALENDAR
VERSION:2.0
PRODID:-//eventon.com NONSGML v1.0//EN
CALSCALE:GREGORIAN
METHOD:PUBLISH
BEGIN:VEVENT
UID:69ecbbda2fe70
DTSTAMP:20260425T130426Z
DTSTART:20260607T060000Z
DTEND:20260607T160000Z
LOCATION:Place Nicod\,  Place Nicod\,  rue Charles Basquin et domaine de la perche Rue Roger Salengro 59174 La Sentinelle
SUMMARY:Grande Brocante de La Sentinelle : Le rendez-vous solidaire du 7 juin
DESCRIPTION:Le dimanche 7 juin 2026\,  la commune de La Sentinelle s&rsquo;
 animera au rythme de son grand vide-grenier annuel. Organisé par l&rsquo;A
 ssociation des écoles (OCCE) et le Comité des parents d’élèves\,  cet
  événement d’envergure investira plusieurs axes majeurs de la ville pou
 r une journée placée sous le signe de la convivialité[..]\nhttps://idees
 orties.fr/events/grande-brocante-de-la-sentinelle-le-rendez-vous-solidaire-
 du-7-juin/
URL:https://ideesorties.fr/events/grande-brocante-de-la-sentinelle-le-rendez-vous-solidaire-du-7-juin/
END:VEVENT
END:VCALENDAR