BEGIN:VCALENDAR
VERSION:2.0
PRODID:-//eventon.com NONSGML v1.0//EN
CALSCALE:GREGORIAN
METHOD:PUBLISH
BEGIN:VEVENT
UID:69eb60d0df7b0
DTSTAMP:20260424T122344Z
DTSTART:20260508T053000Z
DTEND:20260508T160000Z
LOCATION:École maternelle École maternelle Rue de la Mairie 59360 Montay
SUMMARY:Printemps et Bonnes Affaires : Le Vide-Grenier de l’École de Montay
DESCRIPTION:Le vendredi 8 mai 2026\,  le village de Montay s&rsquo;anime po
 ur un rendez-vous placé sous le signe de la convivialité et de la solidar
 ité. L&rsquo;association Les Loustics de Montay organise sa traditionnelle
  brocante annuelle aux abords de l&rsquo;école maternelle\,  rue de la Mai
 rie. Un événement deux-en-un pour toute la famille[..]\nhttps://ideesorti
 es.fr/events/printemps-et-bonnes-affaires-le-vide-grenier-de-lecole-de-mont
 ay/
URL:https://ideesorties.fr/events/printemps-et-bonnes-affaires-le-vide-grenier-de-lecole-de-montay/
END:VEVENT
END:VCALENDAR