BEGIN:VCALENDAR
VERSION:2.0
PRODID:-//eventon.com NONSGML v1.0//EN
CALSCALE:GREGORIAN
METHOD:PUBLISH
BEGIN:VEVENT
UID:69eb60ca1ab4e
DTSTAMP:20260424T122338Z
DTSTART:20260510T050000Z
DTEND:20260510T120000Z
LOCATION:Cité du Cambrésis\,  59151 Arleux Cité du Cambrésis\,  59151 Arleux
SUMMARY:Brocante de Printemps à Arleux : Un rendez-vous solidaire et convivial
DESCRIPTION:L&rsquo;association Le Cambrésis en fête vous donne rendez-vo
 us le dimanche 10 mai 2026 pour sa traditionnelle brocante annuelle. Instal
 lé au cœur de la Cité du Cambrésis\,  cet événement en extérieur est
  l&rsquo;occasion idéale de flâner entre les étals et de dénicher des o
 bjets insolites dans une ambiance chaleureuse. Le paradis[..]\nhttps://idee
 sorties.fr/events/brocante-de-printemps-a-arleux-un-rendez-vous-solidaire-e
 t-convivial/
URL:https://ideesorties.fr/events/brocante-de-printemps-a-arleux-un-rendez-vous-solidaire-et-convivial/
END:VEVENT
END:VCALENDAR