BEGIN:VCALENDAR
VERSION:2.0
PRODID:-//eventon.com NONSGML v1.0//EN
CALSCALE:GREGORIAN
METHOD:PUBLISH
BEGIN:VEVENT
UID:69eb621ca2faa
DTSTAMP:20260424T122916Z
DTSTART:20260425T060000Z
DTEND:20260425T150000Z
LOCATION:Douai (59500) Douai (59500)
SUMMARY:Brocante : Grand Vide-Grenier à Douai le 25 avril
DESCRIPTION:Le rendez-vous des chineurs et des amateurs de bonnes affaires 
 est pris ! Le samedi 25 avril 2026\,  la ville de Douai accueillera un gran
 d vide-grenier et une vente au déballage. De 8h00 à 17h00\,  les rues s&r
 squo;animeront pour offrir une seconde vie aux objets et favoriser les renc
 ontres conviviales[..]\nhttps://ideesorties.fr/events/brocante-grand-vide-g
 renier-a-douai-le-25-avril-2/
URL:https://ideesorties.fr/events/brocante-grand-vide-grenier-a-douai-le-25-avril-2/
END:VEVENT
END:VCALENDAR