BEGIN:VCALENDAR
VERSION:2.0
PRODID:-//eventon.com NONSGML v1.0//EN
CALSCALE:GREGORIAN
METHOD:PUBLISH
BEGIN:VEVENT
UID:69ea36269b717
DTSTAMP:20260423T150926Z
DTSTART:20260425T070000Z
DTEND:20260425T170000Z
LOCATION:Jost Jost 59 800 Lille
SUMMARY:Briquette au Mystic Market : La culture locale Ã  l'honneur chez Jost
DESCRIPTION:Le projet Briquette s&rsquo;installe au cÅ“ur du Mystic Market 
 le samedi 25 avril 2026 pour une journÃ©e dÃ©diÃ©e Ã  l&rsquo;Ã©change et Ã
   la dÃ©couverte. ImaginÃ© par deux amis passionnÃ©s\,  ce concept de mÃ©di
 ation culturelle sâ€™est donnÃ© pour mission de rendre lâ€™art et le savoir
  accessibles Ã  toutes et Ã  tous\, [..]\nhttps://ideesorties.fr/events/bri
 quette-au-mystic-market-la-culture-locale-a-lhonneur-chez-jost/
URL:https://ideesorties.fr/events/briquette-au-mystic-market-la-culture-locale-a-lhonneur-chez-jost/
END:VEVENT
END:VCALENDAR