BEGIN:VCALENDAR
VERSION:2.0
PRODID:-//eventon.com NONSGML v1.0//EN
CALSCALE:GREGORIAN
METHOD:PUBLISH
BEGIN:VEVENT
UID:69ea0c8363012
DTSTAMP:20260423T121147Z
DTSTART:20260505T173000Z
DTEND:20260505T200000Z
LOCATION:Le Majestic Lille 54 rue Béthune 59800 Lille
SUMMARY:Cinéma : Le cycle "Mes Films de Chevet" présente le documentaire culte The Celluloid Closet
DESCRIPTION:Le cycle Mes Films de Chevet donne rendez-vous aux cinéphiles 
 le mardi 5 mai 2026 au cinéma Le Majestic à Lille. Pour cette nouvelle é
 dition\,  l&rsquo;accent est mis sur l&rsquo;histoire secrète du septième
  art avec la projection du documentaire emblématique de Rob Epstein et Jef
 frey Friedman : The Celluloid Closet[..]\nhttps://ideesorties.fr/events/cin
 ema-le-cycle-mes-films-de-chevet-presente-le-documentaire-culte-the-cellulo
 id-closet/
URL:https://ideesorties.fr/events/cinema-le-cycle-mes-films-de-chevet-presente-le-documentaire-culte-the-celluloid-closet/
END:VEVENT
END:VCALENDAR