BEGIN:VCALENDAR
VERSION:2.0
PRODID:-//eventon.com NONSGML v1.0//EN
CALSCALE:GREGORIAN
METHOD:PUBLISH
BEGIN:VEVENT
UID:69ea0c5c06198
DTSTAMP:20260423T121108Z
DTSTART:20260428T180000Z
DTEND:20260428T200000Z
LOCATION:Espace Flandre HAZEBROUCK Rue du Milieu\,  59190 HAZEBROUCK (8)
SUMMARY:Oldelaf en Concert à Hazebrouck : L'Amour sous toutes ses coutures
DESCRIPTION:L’Espace Flandre s’apprête à accueillir l’un des artist
 es les plus complets et les plus singuliers de la scène française. Le mar
 di 28 avril 2026\,  Oldelaf montera sur la scène d&rsquo;Hazebrouck pour u
 ne escale très attendue de sa tournée « Saint-Valentin ». Un artiste au
 x multiples facettes Chroniqueur\,  comédien\,  metteur en[..]\nhttps://id
 eesorties.fr/events/oldelaf-en-concert-a-hazebrouck-lamour-sous-toutes-ses-
 coutures/
URL:https://ideesorties.fr/events/oldelaf-en-concert-a-hazebrouck-lamour-sous-toutes-ses-coutures/
END:VEVENT
END:VCALENDAR