BEGIN:VCALENDAR
VERSION:2.0
PRODID:-//eventon.com NONSGML v1.0//EN
CALSCALE:GREGORIAN
METHOD:PUBLISH
BEGIN:VEVENT
UID:69e76fe1e3da8
DTSTAMP:20260421T123857Z
DTSTART:20260425T080000Z
DTEND:20260425T150000Z
LOCATION:Maison de quartier du Jard Maison de quartier du Jard\,  136 rue Emile Tabary\,  59690 Vieux-Condé
SUMMARY:Troco’plantes à Vieux-Condé – 25 avril 2026
DESCRIPTION:Le Troco’plantes revient à Vieux-Condé le samedi 25 avril 2
 026 à la Maison de quartier du Jard pour une journée placée sous le sign
 e du partage et de la nature. Un événement convivial autour du jardin Ce 
 rendez-vous invite les passionnés de jardinage à échanger gratuitement l
 eurs : 🌱 Plants[..]\nhttps://ideesorties.fr/events/trocoplantes-a-vieux-
 conde-25-avril-2026/
URL:https://ideesorties.fr/events/trocoplantes-a-vieux-conde-25-avril-2026/
END:VEVENT
END:VCALENDAR