BEGIN:VCALENDAR
VERSION:2.0
PRODID:-//eventon.com NONSGML v1.0//EN
CALSCALE:GREGORIAN
METHOD:PUBLISH
BEGIN:VEVENT
UID:69e76f38e55ce
DTSTAMP:20260421T123608Z
DTSTART:20260514T040000Z
DTEND:20260514T160000Z
LOCATION:Hameau de Lynck\,  10 impasse des Pêcheurs\,  59630 Looberghe Hameau de Lynck\,  10 impasse des Pêcheurs\,  59630 Looberghe
SUMMARY:Brocante de Lynck à Looberghe – 14 mai 2026
DESCRIPTION:Le Comité des Fêtes de Looberghe organise la brocante de Lync
 k le jeudi 14 mai 2026\,  au cœur du hameau de Lynck. Une grande journée 
 de chine Avec 100 à 200 exposants\,  exclusivement des particuliers\,  cet
 te brocante propose une belle diversité d’objets à découvrir tout au l
 ong de la journée[..]\nhttps://ideesorties.fr/events/brocante-de-lynck-a-l
 ooberghe-14-mai-2026/
URL:https://ideesorties.fr/events/brocante-de-lynck-a-looberghe-14-mai-2026/
END:VEVENT
END:VCALENDAR