BEGIN:VCALENDAR
VERSION:2.0
PRODID:-//eventon.com NONSGML v1.0//EN
CALSCALE:GREGORIAN
METHOD:PUBLISH
BEGIN:VEVENT
UID:69e75818667d4
DTSTAMP:20260421T105728Z
DTSTART:20260503T060000Z
DTEND:20260503T140000Z
LOCATION:École\,  13 rue du Couvent\,  59220 Denain École\,  13 rue du Couvent\,  59220 Denain
SUMMARY:Vide-grenier à Denain – 3 mai 2026
DESCRIPTION:Un vide-grenier convivial se tiendra à Denain le dimanche 3 ma
 i 2026\,  au sein de l’école située rue du Couvent. Une journée de chi
 ne et de détente Avec 100 à 200 exposants\,  principalement des particuli
 ers\,  cet événement est idéal pour dénicher de bonnes affaires : vête
 ments\,  jouets\,  objets déco\,  livres[..]\nhttps://ideesorties.fr/event
 s/vide-grenier-a-denain-3-mai-2026/
URL:https://ideesorties.fr/events/vide-grenier-a-denain-3-mai-2026/
END:VEVENT
END:VCALENDAR