BEGIN:VCALENDAR
VERSION:2.0
PRODID:-//eventon.com NONSGML v1.0//EN
CALSCALE:GREGORIAN
METHOD:PUBLISH
BEGIN:VEVENT
UID:69e7574b154cf
DTSTAMP:20260421T105403Z
DTSTART:20260517T060000Z
DTEND:20260517T160000Z
LOCATION:59192 Beuvrages 59192 Beuvrages
SUMMARY:3ème brocante du Ruissard à Beuvrages – 17 mai 2026
DESCRIPTION:La 3ᵉ brocante du Ruissard se tiendra à Beuvrages le dimanch
 e 17 mai 2026\,  pour une journée conviviale dédiée à la chine et aux b
 onnes affaires. Un rendez-vous à ne pas manquer Avec 100 à 200 exposants\
 ,  particuliers et professionnels\,  cette brocante propose une grande vari
 été d’objets : vêtements\,  décoration\, [..]\nhttps://ideesorties.fr
 /events/3eme-brocante-du-ruissard-a-beuvrages-17-mai-2026/
URL:https://ideesorties.fr/events/3eme-brocante-du-ruissard-a-beuvrages-17-mai-2026/
END:VEVENT
END:VCALENDAR