BEGIN:VCALENDAR
VERSION:2.0
PRODID:-//eventon.com NONSGML v1.0//EN
CALSCALE:GREGORIAN
METHOD:PUBLISH
BEGIN:VEVENT
UID:69e7581fc6331
DTSTAMP:20260421T105735Z
DTSTART:20260514T060000Z
DTEND:20260514T110000Z
LOCATION:Centre de ChÃ©reng (59152) Centre de ChÃ©reng (59152)
SUMMARY:Braderie du printemps Ã  ChÃ©reng â€“ 14 mai 2026
DESCRIPTION:La braderie du printemps revient Ã  ChÃ©reng le jeudi 14 mai 20
 26\,  pour une matinÃ©e placÃ©e sous le signe de la chine et de la convivia
 litÃ©. Un rendez-vous apprÃ©ciÃ© des chineurs Avec 200 Ã  300 exposants\,  
 exclusivement des particuliers\,  cet Ã©vÃ©nement offre une belle diversitÃ
 © dâ€™objets : vÃªtements\,  dÃ©coration\,  livres\, [..]\nhttps://ideesort
 ies.fr/events/braderie-du-printemps-a-chereng-14-mai-2026/
URL:https://ideesorties.fr/events/braderie-du-printemps-a-chereng-14-mai-2026/
END:VEVENT
END:VCALENDAR