BEGIN:VCALENDAR
VERSION:2.0
PRODID:-//eventon.com NONSGML v1.0//EN
CALSCALE:GREGORIAN
METHOD:PUBLISH
BEGIN:VEVENT
UID:69e756b0dfbd7
DTSTAMP:20260421T105128Z
DTSTART:20260426T080000Z
DTEND:20260426T153000Z
LOCATION:espace saint Exupéry 4 rue des Aubépines 59267 Proville
SUMMARY:Bourse musicale à Proville – 26 avril 2026
DESCRIPTION:Les passionnés de musique ont rendez-vous à Proville le diman
 che 26 avril 2026 pour une bourse musicale organisée à l’Espace Saint-E
 xupéry. Un événement dédié aux amateurs de musique Cette journée réu
 nira exposants particuliers et professionnels autour de nombreux univers mu
 sicaux : 🎵 Disques vinyles\,  CD et DVD 🎼 Partitions musicales[..]\nh
 ttps://ideesorties.fr/events/bourse-musicale-a-proville-26-avril-2026/
URL:https://ideesorties.fr/events/bourse-musicale-a-proville-26-avril-2026/
END:VEVENT
END:VCALENDAR