BEGIN:VCALENDAR
VERSION:2.0
PRODID:-//eventon.com NONSGML v1.0//EN
CALSCALE:GREGORIAN
METHOD:PUBLISH
BEGIN:VEVENT
UID:69e757a539e53
DTSTAMP:20260421T105533Z
DTSTART:20260606T050000Z
DTEND:20260606T140000Z
LOCATION:Rue du Fresnoy\,  59217 Bévillers Rue du Fresnoy\,  59217 Bévillers
SUMMARY:Brocante des Diablotins à Bévillers – 6 juin 2026
DESCRIPTION:L’association des Diablotins de Bévillers organise sa brocan
 te annuelle le samedi 6 juin 2026\,  rue du Fresnoy. Une journée convivial
 e et animée Avec 50 à 100 exposants\,  particuliers et professionnels\,  
 cette brocante promet une belle diversité d’objets à chiner dans une am
 biance chaleureuse et familiale. Tout au long de la[..]\nhttps://ideesortie
 s.fr/events/brocante-des-diablotins-a-bevillers-6-juin-2026/
URL:https://ideesorties.fr/events/brocante-des-diablotins-a-bevillers-6-juin-2026/
END:VEVENT
END:VCALENDAR