BEGIN:VCALENDAR
VERSION:2.0
PRODID:-//eventon.com NONSGML v1.0//EN
CALSCALE:GREGORIAN
METHOD:PUBLISH
BEGIN:VEVENT
UID:69e756dfe3b37
DTSTAMP:20260421T105215Z
DTSTART:20260426T060000Z
DTEND:20260426T160000Z
LOCATION:centre ville rue de la rÃ©publique 59218 Poix-du-Nord
SUMMARY:Vide-greniers 2026 Ã  Poix-du-Nord
DESCRIPTION:Le traditionnel vide-greniers de Poix-du-Nord revient le dimanc
 he 26 avril 2026 pour sa 35áµ‰ Ã©dition\,  un rendez-vous incontournable po
 ur les amateurs de chine et de bonnes affaires. Une Ã©dition placÃ©e sous l
 e signe de la convivialitÃ© OrganisÃ© en centre-ville\,  cet Ã©vÃ©nement rÃ
 ©unit chaque annÃ©e entre 100 et 200 exposants\,  principalement[..]\nhttps
 ://ideesorties.fr/events/vide-greniers-2026-a-poix-du-nord/
URL:https://ideesorties.fr/events/vide-greniers-2026-a-poix-du-nord/
END:VEVENT
END:VCALENDAR