BEGIN:VCALENDAR
VERSION:2.0
PRODID:-//eventon.com NONSGML v1.0//EN
CALSCALE:GREGORIAN
METHOD:PUBLISH
BEGIN:VEVENT
UID:69e5f5c5e8631
DTSTAMP:20260420T094541Z
DTSTART:20260501T060000Z
DTEND:20260501T150000Z
LOCATION:rue principale 62560 Verchocq rue principale 62560 Verchocq
SUMMARY:Brocante à Verchocq – 1er mai 2026
DESCRIPTION:Une brocante conviviale se tiendra à Verchocq le vendredi 1er 
 mai 2026\,  au cœur du village\,  pour une journée placée sous le signe 
 de la chine et de la bonne humeur. Un rendez-vous pour les amateurs de bonn
 es affaires Avec 200 à 300 exposants\,  particuliers et professionnels\,  
 cette brocante propose[..]\nhttps://ideesorties.fr/events/brocante-a-vercho
 cq-1er-mai-2026/
URL:https://ideesorties.fr/events/brocante-a-verchocq-1er-mai-2026/
END:VEVENT
END:VCALENDAR