BEGIN:VCALENDAR
VERSION:2.0
PRODID:-//eventon.com NONSGML v1.0//EN
CALSCALE:GREGORIAN
METHOD:PUBLISH
BEGIN:VEVENT
UID:69e5f5ac40a4b
DTSTAMP:20260420T094516Z
DTSTART:20260501T040000Z
DTEND:20260501T150000Z
LOCATION:Rue Roger Salengro 59123 Bray-Dunes Rue Roger Salengro 59123 Bray-Dunes
SUMMARY:Braderie à Bray-Dunes – 1er mai 2026
DESCRIPTION:La ville de Bray-Dunes accueille une grande braderie le vendred
 i 1er mai 2026\,  organisée par l’Amicale des sapeurs-pompiers. Un rende
 z-vous incontournable Avec plus de 300 exposants\,  particuliers et profess
 ionnels\,  cet événement promet une journée riche en bonnes affaires et 
 en découvertes. Que ce soit pour chiner\,  vendre ou simplement se[..]\nht
 tps://ideesorties.fr/events/braderie-a-bray-dunes-1er-mai-2026/
URL:https://ideesorties.fr/events/braderie-a-bray-dunes-1er-mai-2026/
END:VEVENT
END:VCALENDAR