BEGIN:VCALENDAR
VERSION:2.0
PRODID:-//eventon.com NONSGML v1.0//EN
CALSCALE:GREGORIAN
METHOD:PUBLISH
BEGIN:VEVENT
UID:69e8b42b079cd
DTSTAMP:20260422T114235Z
DTSTART:20260508T070000Z
DTEND:20260509T160000Z
LOCATION:385 route nationale 59400 Fontaine-Notre-Dame 385 route nationale 59400 Fontaine-Notre-Dame
SUMMARY:Vide-maison à Fontaine-Notre-Dame – 8 & 9 mai 2026
DESCRIPTION:Un vide-maison convivial est organisé à Fontaine-Notre-Dame p
 our deux jours de déstockage et de bonnes affaires. 📅 Dates : vendredi 
 8 et samedi 9 mai 2026🕘 Horaires : de 9h à 18h📍 Lieu : 385 route nat
 ionale – Fontaine-Notre-Dame 🏡 Au programme De nombreux objets du quot
 idien seront proposés à[..]\nhttps://ideesorties.fr/events/vide-maison-a-
 fontaine-notre-dame-8-9-mai-2026/
URL:https://ideesorties.fr/events/vide-maison-a-fontaine-notre-dame-8-9-mai-2026/
END:VEVENT
END:VCALENDAR