BEGIN:VCALENDAR
VERSION:2.0
PRODID:-//eventon.com NONSGML v1.0//EN
CALSCALE:GREGORIAN
METHOD:PUBLISH
BEGIN:VEVENT
UID:69e5f5c4ba9bf
DTSTAMP:20260420T094540Z
DTSTART:20260425T060000Z
DTEND:20260425T173000Z
LOCATION:3 rue Mozart – Faches-Thumesnil 3 rue Mozart – Faches-Thumesnil
SUMMARY:Vide-maison à Faches-Thumesnil – Samedi 25 avril 2026
DESCRIPTION:Un vide-maison riche en objets variés se déroule à Faches-Th
 umesnil pour une journée de bonnes affaires et de déstockage total. 📅 
 Date : samedi 25 avril 2026🕗 Horaires : de 8h à 19h30📍 Lieu : 3 rue 
 Mozart – Faches-Thumesnil🎟️ Entrée : gratuite 🏡 Au programme Tou
 t doit disparaître ![..]\nhttps://ideesorties.fr/events/vide-maison-a-fach
 es-thumesnil-samedi-25-avril-2026/
URL:https://ideesorties.fr/events/vide-maison-a-faches-thumesnil-samedi-25-avril-2026/
END:VEVENT
END:VCALENDAR