BEGIN:VCALENDAR
VERSION:2.0
PRODID:-//eventon.com NONSGML v1.0//EN
CALSCALE:GREGORIAN
METHOD:PUBLISH
BEGIN:VEVENT
UID:69e887f37893f
DTSTAMP:20260422T083355Z
DTSTART:20260530T180000Z
DTEND:20260530T215900Z
LOCATION:Club Hippique du Forest rue du Forest\,  59910 Bondues
SUMMARY:Caribbean Fever : une nuit aux couleurs des CaraÃ¯bes Ã  Bondues
DESCRIPTION:Le samedi 30 mai 2026\,  la mÃ©tropole lilloise va vibrer au ry
 thme des sonoritÃ©s tropicales avec le retour de Caribbean Fever\,  un Ã©vÃ
 ©nement festif devenu incontournable. Pour cette 3áµ‰ Ã©dition\,  direction
  le Club Hippique du Forest Ã  Bondues pour une immersion totale dans lâ€™u
 nivers des carnavals caribÃ©ens. Entre musique\,  danse[..]\nhttps://ideeso
 rties.fr/events/caribbean-fever-une-nuit-aux-couleurs-des-caraibes-a-bondue
 s/
URL:https://ideesorties.fr/events/caribbean-fever-une-nuit-aux-couleurs-des-caraibes-a-bondues/
END:VEVENT
END:VCALENDAR