BEGIN:VCALENDAR
VERSION:2.0
PRODID:-//eventon.com NONSGML v1.0//EN
CALSCALE:GREGORIAN
METHOD:PUBLISH
BEGIN:VEVENT
UID:69e5f5ad2d5d8
DTSTAMP:20260420T094517Z
DTSTART:20260616T063000Z
DTEND:20260616T100000Z
LOCATION:B&#039;CoWorker Lille Sud 1A Rue Jean Walter 2ème étage 59000 Lille
SUMMARY:Tour de France du Réseautage à Lille – Étape 7
DESCRIPTION:Dans le cadre de son partenariat avec B’CoWorker\,  Les Café
 s Business lancent le Tour de France du Réseautage et font escale à Lille
  pour une nouvelle étape dédiée aux professionnels du territoire. Cet é
 vénement propose une matinée de rencontres placée sous le signe de la co
 nvivialité et de l’efficacité. Entrepreneurs\, [..]\nhttps://ideesortie
 s.fr/events/tour-de-france-du-reseautage-a-lille-etape-7/
URL:https://ideesorties.fr/events/tour-de-france-du-reseautage-a-lille-etape-7/
END:VEVENT
END:VCALENDAR