BEGIN:VCALENDAR
VERSION:2.0
PRODID:-//eventon.com NONSGML v1.0//EN
CALSCALE:GREGORIAN
METHOD:PUBLISH
BEGIN:VEVENT
UID:69e5f5c918459
DTSTAMP:20260420T094545Z
DTSTART:20260523T170000Z
DTEND:20260523T190000Z
LOCATION:PEÃ‘A SEDE IBÃ‰RICA 160 Rue des Martyrs 59113 Seclin
SUMMARY:Stage Flamenco IbÃ©rica Ã  Seclin â€“ Ã‰tÃ© 2026
DESCRIPTION:DÃ©couvrez ou perfectionnez votre pratique du flamenco lors dâ€
 ™un stage estival riche en rythmes et en Ã©motions Ã  Seclin. Ouvert Ã  tou
 s les niveaux\,  cet Ã©vÃ©nement propose plusieurs styles tout au long de l
 a semaine\,  dans une ambiance authentique et conviviale. EncadrÃ© par une 
 danseuse professionnelle\,  ce stage est une[..]\nhttps://ideesorties.fr/ev
 ents/stage-flamenco-iberica-a-seclin-ete-2026/
URL:https://ideesorties.fr/events/stage-flamenco-iberica-a-seclin-ete-2026/
END:VEVENT
END:VCALENDAR