BEGIN:VCALENDAR
VERSION:2.0
PRODID:-//eventon.com NONSGML v1.0//EN
CALSCALE:GREGORIAN
METHOD:PUBLISH
BEGIN:VEVENT
UID:69e88a7a11b87
DTSTAMP:20260422T084442Z
DTSTART:20260421T063000Z
DTEND:20260421T100000Z
LOCATION:Le Conservateur 203 Boulevard de la LibertÃ© 59000 Lille
SUMMARY:Les CafÃ©s Business au Le Conservateur
DESCRIPTION:Le mardi 21 avril 2026\,  Ã  Lille\,  lâ€™Ã©vÃ©nement Les CafÃ©
 s Business propose une matinÃ©e dÃ©diÃ©e au rÃ©seautage professionnel dans 
 un cadre convivial. OrganisÃ© par Les CafÃ©s Business\,  ce rendez-vous sâ€
 ™adresse aux dirigeants\,  indÃ©pendants\,  commerÃ§ants et porteurs de pro
 jet souhaitant dÃ©velopper leur activitÃ©. Au programme : Ã©changes\,  reco
 mmandations\,  rencontres et opportunitÃ©s[..]\nhttps://ideesorties.fr/even
 ts/les-cafes-business-au-le-conservateur/
URL:https://ideesorties.fr/events/les-cafes-business-au-le-conservateur/
END:VEVENT
END:VCALENDAR