BEGIN:VCALENDAR
VERSION:2.0
PRODID:-//eventon.com NONSGML v1.0//EN
CALSCALE:GREGORIAN
METHOD:PUBLISH
BEGIN:VEVENT
UID:69e5f5c800e4b
DTSTAMP:20260420T094544Z
DTSTART:20260430T070000Z
DTEND:20260430T144500Z
LOCATION:77 Rue Nationale 59800 Lille 77 Rue Nationale 59800 Lille
SUMMARY:JournÃ©e rÃ©gionale CRT des Hauts-de-France Ã  Lille
DESCRIPTION:La FÃ©dÃ©ration FranÃ§aise des Centres de Ressources Territoria
 ux organise une journÃ©e rÃ©gionale dÃ©diÃ©e aux CRT des Hauts-de-France le
  jeudi 30 avril 2026\,  de 9h Ã  16h45\,  au 77 rue Nationale Ã  Lille. Un 
 temps fort dâ€™Ã©changes et de rÃ©flexion Cette rencontre en prÃ©sentiel rÃ
 ©unira les professionnels du mÃ©dico-social\,  les acteurs[..]\nhttps://ide
 esorties.fr/events/journee-regionale-crt-des-hauts-de-france-a-lille/
URL:https://ideesorties.fr/events/journee-regionale-crt-des-hauts-de-france-a-lille/
END:VEVENT
END:VCALENDAR