BEGIN:VCALENDAR
VERSION:2.0
PRODID:-//eventon.com NONSGML v1.0//EN
CALSCALE:GREGORIAN
METHOD:PUBLISH
BEGIN:VEVENT
UID:69e61dac2431c
DTSTAMP:20260420T123556Z
DTSTART:20260331T163000Z
DTEND:20260331T183000Z
LOCATION:Les Petites Cantines Croix Place des Martyrs de la Résistance 59170 Croix
SUMMARY:Atelier gratuit : La Bataille de l’IA à Croix
DESCRIPTION:Un atelier original et participatif autour des intelligences ar
 tificielles génératives se tiendra le mardi 31 mars de 18h30 à 20h30 à 
 Croix\,  aux Petites Cantines Croix. Organisé par Wasquehal en Transition\
 ,  en partenariat avec Les Petites Cantines Croix et SuperQuinQuin Val de M
 arque\,  cet événement propose une approche ludique pour[..]\nhttps://ide
 esorties.fr/events/atelier-gratuit-la-bataille-de-lia-a-croix/
URL:https://ideesorties.fr/events/atelier-gratuit-la-bataille-de-lia-a-croix/
END:VEVENT
END:VCALENDAR