BEGIN:VCALENDAR
VERSION:2.0
PRODID:-//eventon.com NONSGML v1.0//EN
CALSCALE:GREGORIAN
METHOD:PUBLISH
BEGIN:VEVENT
UID:69e5f57658657
DTSTAMP:20260420T094422Z
DTSTART:20260329T060000Z
DTEND:20260329T150000Z
LOCATION:Stab VÃ©lodrome 59 rue Alexandre Fleming\,  59100 - Roubaix
SUMMARY:Braderie du VÃ©lo 2026 Ã  Roubaix
DESCRIPTION:Le dimanche 29 mars 2026\,  Braderie du VÃ©lo 2026 sâ€™installe
  Ã  STAB VÃ©lodrome pour une journÃ©e entiÃ¨rement dÃ©diÃ©e Ã  lâ€™univers 
 du vÃ©lo. Cet Ã©vÃ©nement grand public sâ€™adresse aussi bien aux passionnÃ
 ©s de cyclisme quâ€™aux amateurs ou simples curieux. Sur place\,  une large
  sÃ©lection de vÃ©los\,  piÃ¨ces dÃ©tachÃ©es et accessoires sera[..]\nhttps
 ://ideesorties.fr/events/braderie-du-velo-2026-a-roubaix/
URL:https://ideesorties.fr/events/braderie-du-velo-2026-a-roubaix/
END:VEVENT
END:VCALENDAR