BEGIN:VCALENDAR
VERSION:2.0
PRODID:-//eventon.com NONSGML v1.0//EN
CALSCALE:GREGORIAN
METHOD:PUBLISH
BEGIN:VEVENT
UID:69e5e5123a5f9
DTSTAMP:20260420T083426Z
DTSTART:20260324T180000Z
DTEND:20260324T193000Z
LOCATION:La Ferme du bocquiau\,  rue du bocquiau\,  la Ferme du bocquiau Rue du bocquiau 59320 Haubourdin
SUMMARY:Ciné-Débat : Il était une forêt
DESCRIPTION:Quand : Mardi 24 mars 2026 à 19hOù : Ferme du Bocquiau\, 
  Haubourdin Le botaniste français Francis Hallé\,  passionné des forêts
  primaires\,  a consacré sa vie à observer la naissance\,  la croissance 
 et la mort des arbres. Bien qu’ils semblent immobiles et silencieux\,  Ha
 llé révèle combien ces géants végétaux sont prodigieusement vivants[.
 .]\nhttps://ideesorties.fr/events/cine-debat-il-etait-une-foret/
URL:https://ideesorties.fr/events/cine-debat-il-etait-une-foret/
END:VEVENT
END:VCALENDAR