BEGIN:VCALENDAR
VERSION:2.0
PRODID:-//eventon.com NONSGML v1.0//EN
CALSCALE:GREGORIAN
METHOD:PUBLISH
BEGIN:VEVENT
UID:69e5f5965ec8d
DTSTAMP:20260420T094454Z
DTSTART:20260325T190000Z
DTEND:20260325T201500Z
LOCATION:: Le Colisée Roubaix\,  31 rue de l&#039;Epeule \,  : Le Colisée Roubaix\,  31 rue de l'Epeule \, 
SUMMARY:Concert symphonique autour de L’Attaque des Titans à Roubaix
DESCRIPTION:Le mercredi 25 mars 2026 à 20h\,  la salle du Le Colisée accu
 eillera un concert original consacré aux musiques de l’univers de L’At
 taque des Titans\,  créé par le mangaka Hajime Isayama. Proposé par l’
 organisateur Musicalta Grandes Scènes\,  cet événement mettra à l’hon
 neur le Grissini Project\,  un quatuor de musiciens passionnés[..]\nhttps:
 //ideesorties.fr/events/concert-symphonique-autour-de-lattaque-des-titans-a
 -roubaix/
URL:https://ideesorties.fr/events/concert-symphonique-autour-de-lattaque-des-titans-a-roubaix/
END:VEVENT
END:VCALENDAR