BEGIN:VCALENDAR
VERSION:2.0
PRODID:-//eventon.com NONSGML v1.0//EN
CALSCALE:GREGORIAN
METHOD:PUBLISH
BEGIN:VEVENT
UID:69e5f5d04a0b0
DTSTAMP:20260420T094552Z
DTSTART:20260320T193000Z
DTEND:20260320T210000Z
LOCATION:Espace Culturel Lequimme\,  Espace Culturel Lequimme\,  place blondeau\, 
SUMMARY:Concert : Lâ€™Union Musicale dâ€™Haubourdin Ã  lâ€™honneur
DESCRIPTION:Le vendredi 20 mars 2026 Ã  20h30\,  lâ€™Union Musicale dâ€™Hau
 bourdin proposera un concert intitulÃ© Â« Lâ€™UMH dâ€™Haubourdin a plus dâ€
 ™une corde Ã  son arc Â» Ã  lâ€™Espace Culturel Lequimme. Pour cette soirÃ©
 e musicale\,  les orchestres dâ€™harmonie et symphonique de lâ€™ensemble me
 ttront en lumiÃ¨re plusieurs de leurs musiciens Ã  travers un[..]\nhttps://
 ideesorties.fr/events/concert-lunion-musicale-dhaubourdin-a-lhonneur/
URL:https://ideesorties.fr/events/concert-lunion-musicale-dhaubourdin-a-lhonneur/
END:VEVENT
END:VCALENDAR