BEGIN:VCALENDAR
VERSION:2.0
PRODID:-//eventon.com NONSGML v1.0//EN
CALSCALE:GREGORIAN
METHOD:PUBLISH
BEGIN:VEVENT
UID:69e88836e602f
DTSTAMP:20260422T083502Z
DTSTART:20260330T180000Z
DTEND:20260330T215900Z
LOCATION:Club Hippique du Forest rue du Forest\,  59910 Bondues
SUMMARY:Caribbean Fever : une nuit aux couleurs des CaraÃ¯bes prÃ¨s de Lille
DESCRIPTION:Le 30 mai 2026 Ã  partir de 20h\,  la soirÃ©e Caribbean Fever f
 era vibrer le Club Hippique du Forest pour une troisiÃ¨me Ã©dition placÃ©e 
 sous le signe de la fÃªte et de la culture caribÃ©enne. PensÃ© comme une vÃ
 ©ritable immersion dans lâ€™ambiance des carnavals des Ã®les\,  lâ€™Ã©vÃ©ne
 ment propose une soirÃ©e[..]\nhttps://ideesorties.fr/events/caribbean-fever
 -une-nuit-aux-couleurs-des-caraibes-pres-de-lille/
URL:https://ideesorties.fr/events/caribbean-fever-une-nuit-aux-couleurs-des-caraibes-pres-de-lille/
END:VEVENT
END:VCALENDAR