BEGIN:VCALENDAR
VERSION:2.0
PRODID:-//eventon.com NONSGML v1.0//EN
CALSCALE:GREGORIAN
METHOD:PUBLISH
BEGIN:VEVENT
UID:69e5f6c1bea46
DTSTAMP:20260420T094953Z
DTSTART:20260127T090000Z
DTEND:20260226T170000Z
LOCATION:ERA AGENCE DE LA PASSERELLE 63 rue Raymond Derain MARCQ EN BAROEUL
SUMMARY:ERA Agence de la Passerelle ouvre ses portes à la photographie
DESCRIPTION:📢 Quand l’immobilier rencontre l’art contemporain à Mar
 cq-en-Barœul. L’agence ERA Agence de la Passerelle a le plaisir d’accu
 eillir l’exposition « Entre Nous » de la talentueuse photographe-plasti
 cienne April Tavernier. Jusqu&rsquo;au 26 février 2026\,  venez découvrir
  un parcours artistique unique où portraits et paysages explorent les tens
 ions de notre époque et[..]\nhttps://ideesorties.fr/events/era-agence-de-l
 a-passerelle-ouvre-ses-portes-a-la-photographie/
URL:https://ideesorties.fr/events/era-agence-de-la-passerelle-ouvre-ses-portes-a-la-photographie/
END:VEVENT
END:VCALENDAR