BEGIN:VCALENDAR
VERSION:2.0
PRODID:-//eventon.com NONSGML v1.0//EN
CALSCALE:GREGORIAN
METHOD:PUBLISH
BEGIN:VEVENT
UID:69e5e6c11df69
DTSTAMP:20260420T084137Z
DTSTART:20260124T100000Z
DTEND:20260124T113000Z
LOCATION:Rue Ferrand Aulnoy-lez-Valenciennes
SUMMARY:Théâtre enfantin à l'Atelier d'artistes
DESCRIPTION:🌟 Théâtre enfantin à l’Atelier d’artistes : un specta
 cle magique pour les tout-petits avec Léon l’ourson et Peter l’oiseau 
 migrateur\,  mêlant mime\,  musique et marionnettes ! 🎨 Une aventure pl
 eine de tendresse et de surprises pour les 1 à 5 ans. 🗓️ Samedi 24 j
 anvier à 11h – places limitées ![..]\nhttps://ideesorties.fr/events/the
 atre-enfantin-a-latelier-dartistes/
URL:https://ideesorties.fr/events/theatre-enfantin-a-latelier-dartistes/
END:VEVENT
END:VCALENDAR