BEGIN:VCALENDAR
VERSION:2.0
PRODID:-//eventon.com NONSGML v1.0//EN
CALSCALE:GREGORIAN
METHOD:PUBLISH
BEGIN:VEVENT
UID:69e60b9ca5312
DTSTAMP:20260420T111852Z
DTSTART:20260120T190000Z
DTEND:20260122T213000Z
LOCATION:La Virgule 82 Boulevard Gambetta\,  Tourcoing
SUMMARY:Splendeurs et misères
DESCRIPTION:✨ Plongez dans Splendeurs et misères\,  une fresque théâtr
 ale inspirée de Balzac où l’ambition et la chute se mêlent dans un Par
 is fascinant et cruel. 🎭📍 Centre culturel La Virgule à Tourcoing📅
  20\,  21 &amp; 22 janvier à 20h🎟️ Réservez vite pour une soirée th
 éâtre intense et poétique ! 20€[..]\nhttps://ideesorties.fr/events/spl
 endeurs-et-miseres/
URL:https://ideesorties.fr/events/splendeurs-et-miseres/
END:VEVENT
END:VCALENDAR