BEGIN:VCALENDAR
VERSION:2.0
PRODID:-//eventon.com NONSGML v1.0//EN
CALSCALE:GREGORIAN
METHOD:PUBLISH
BEGIN:VEVENT
UID:69e5f6c695cd1
DTSTAMP:20260420T094958Z
DTSTART:20260108T133000Z
DTEND:20260108T163000Z
LOCATION:Médiathèque de Roubaix 2 Rue Pierre Motte\,  59100 Roubaix
SUMMARY:Dimanche jeux de société – Initiation au jeu de rôle
DESCRIPTION:📍 Lieu :  Médiathèque de Roubaix\,  2 Rue Pierre Motte\, 
  59100 Roubaix 📅 Date : Dimanche 8 février 2026 ⏰ Heure : 14h30 à 17
 h30 🎟️ Gratuit – Sur inscription ✨ Découvrez l’univers des jeux
  de rôleEn collaboration avec l’association Funble (sous réserve)\,  de
 venez : Un hobbit avec L’Anneau unique[..]\nhttps://ideesorties.fr/events
 /dimanche-jeux-de-societe-initiation-au-jeu-de-role/
URL:https://ideesorties.fr/events/dimanche-jeux-de-societe-initiation-au-jeu-de-role/
END:VEVENT
END:VCALENDAR