BEGIN:VCALENDAR
VERSION:2.0
PRODID:-//eventon.com NONSGML v1.0//EN
CALSCALE:GREGORIAN
METHOD:PUBLISH
BEGIN:VEVENT
UID:69e887df183a1
DTSTAMP:20260422T083335Z
DTSTART:20260124T143000Z
DTEND:20260124T160000Z
LOCATION:Médiathèque des Bois Blancs 36 Av. Marx Dormoy\,  59000 Lille
SUMMARY:Encore une histoire ! – Nuits de la lecture 2026 - Lille
DESCRIPTION:📍 Lieu : Médiathèque des Bois-Blancs\,  36 Av. Marx Dormoy
 \,  59000 Lille📅 Dates : Samedi 24 janvier 2026⏰ Heure : De 15h30 à 1
 7h00🎟️ Entrée libre ✨ Lectures et ateliers ouverts à tous dès 4 a
 nsUn moment pour développer l’imaginaire des petits et des grands\, déc
 ouvrir de nouvelles histoires et partager[..]\nhttps://ideesorties.fr/event
 s/encore-une-histoire-nuits-de-la-lecture-2026-lille/
URL:https://ideesorties.fr/events/encore-une-histoire-nuits-de-la-lecture-2026-lille/
END:VEVENT
END:VCALENDAR