BEGIN:VCALENDAR
VERSION:2.0
PRODID:-//eventon.com NONSGML v1.0//EN
CALSCALE:GREGORIAN
METHOD:PUBLISH
BEGIN:VEVENT
UID:69e89c52ea62e
DTSTAMP:20260422T100050Z
DTSTART:20260117T090000Z
DTEND:20260117T110000Z
LOCATION:Médiathèque de Roubaix - La Grand Plage 2 rue Pierre Motte Roubaix
SUMMARY:Création et impression 3D
DESCRIPTION:Un atelier pratique pour apprendre à concevoir un objet en 3D 
 avec le logiciel libre OpenSCAD\,  puis voir ton objet imprimé en 3D lors 
 d’une visite spéciale du FabLab de La Condition Publique. L’activité 
 se déroule en deux séances\,  suivies d’une visite VIP pour récupérer
  ton impression. 📍 Lieu :[..]\nhttps://ideesorties.fr/events/%f0%9f%8e%a
 8-creation-et-impression-3d/
URL:https://ideesorties.fr/events/%f0%9f%8e%a8-creation-et-impression-3d/
END:VEVENT
END:VCALENDAR