BEGIN:VCALENDAR
VERSION:2.0
PRODID:-//eventon.com NONSGML v1.0//EN
CALSCALE:GREGORIAN
METHOD:PUBLISH
BEGIN:VEVENT
UID:69e5f766000d4
DTSTAMP:20260420T095238Z
DTSTART:20260110T150000Z
DTEND:20260228T163000Z
LOCATION:THEATRE RONNY COUTTEURE 1\,  rue Léon Gambetta 59273 Fretin
SUMMARY:Peter Pan - Où est Clochette ? - Théâtre Ronny Coutteure\,  FRETIN
DESCRIPTION:🎭 Peter Pan – Où est Clochette ?Un spectacle jeune public
  plein de magie et d’aventure ! Peter Pan et sa fidèle amie la fée Cloc
 hette\,  pourtant inséparables\,  se disputent après une partie de cache-
 cache qui tourne mal. Clochette quitte le Pays Imaginaire et Peter\,  bien 
 décidé à la retrouver\, [..]\nhttps://ideesorties.fr/events/peter-pan-ou
 -est-clochette-theatre-ronny-coutteure-fretin/
URL:https://ideesorties.fr/events/peter-pan-ou-est-clochette-theatre-ronny-coutteure-fretin/
END:VEVENT
END:VCALENDAR