BEGIN:VCALENDAR
VERSION:2.0
PRODID:-//eventon.com NONSGML v1.0//EN
CALSCALE:GREGORIAN
METHOD:PUBLISH
BEGIN:VEVENT
UID:69e88e99868a4
DTSTAMP:20260422T090217Z
DTSTART:20260313T183000Z
DTEND:20260313T200000Z
LOCATION:QUANTA 7 Chem. du Grand Marais\,  59650\,  Villeneuve-d'Ascq
SUMMARY:Concert Méryha - Villeneuve d'Ascq
DESCRIPTION:Méryha est un trio folk né d’une amitié et d’un amour co
 mmun pour la musique. Guitare\,  bodhrán et whistles accompagnent trois vo
 ix harmonisées qui revisitent chants irlandais\,  airs de pubs et chansons
  de marins. Entre tradition et influences venues d’ailleurs\,  le groupe 
 mêle les styles et les rythmes pour créer[..]\nhttps://ideesorties.fr/eve
 nts/concert-meryha-villeneuve-dascq/
URL:https://ideesorties.fr/events/concert-meryha-villeneuve-dascq/
END:VEVENT
END:VCALENDAR