BEGIN:VCALENDAR
VERSION:2.0
PRODID:-//eventon.com NONSGML v1.0//EN
CALSCALE:GREGORIAN
METHOD:PUBLISH
BEGIN:VEVENT
UID:69e88e3b133ff
DTSTAMP:20260422T090043Z
DTSTART:20251220T190000Z
DTEND:20251220T203500Z
LOCATION:Salle polyvalente All. du Huit Mai 1945\,  62000 Dainville
SUMMARY:Concert de fin d'annÃ©e - Dainville
DESCRIPTION:ðŸŽ¶ Concert de fin dâ€™annÃ©e â€“ Finir lâ€™annÃ©e en beautÃ© 
 ! Programme : Mozart â€“ Symphonie nÂ°35\,  Â« Haffner Â» Haydn â€“ Concert
 o pour trompette Josef Strauss â€“ SphÃ¤renklÃ¤nge Waldteufel â€“ Les Patin
 eurs Johann Strauss fils â€“ Auf der Jagd | CsÃ¡rdÃ¡s (extrait de Ritter PÃ
 ¡zmÃ¡n) | Le Beau Danube[..]\nhttps://ideesorties.fr/events/concert-de-fin-
 dannee-dainville/
URL:https://ideesorties.fr/events/concert-de-fin-dannee-dainville/
END:VEVENT
END:VCALENDAR