BEGIN:VCALENDAR
VERSION:2.0
PRODID:-//eventon.com NONSGML v1.0//EN
CALSCALE:GREGORIAN
METHOD:PUBLISH
BEGIN:VEVENT
UID:69e5f571a797e
DTSTAMP:20260420T094417Z
DTSTART:20231207T090000Z
DTEND:20231209T173000Z
LOCATION:Saint-André-lez-Lille 27 rue Félix Faure
SUMMARY:Grande vente d'usine
DESCRIPTION:Nous sortons pour vous\,  nos échantillons\,  nos prototypes e
 t nos produits légèrement imparfaits de nos marques maison et celles avec
  qui nous collaborons. Sous-vêtements\,  T-shirts\,  chaussettes\,  nuit&#
 8230; un grand nombre de modèles vous attendent.⁠⁠  Découvrez aussi 
 le Tiers-lieu textile ID-Tiss et sa boutique d&rsquo;articles de seconde ma
 in. Ce tiers lieu[..]\nhttps://ideesorties.fr/events/grande-vente-dusine/
URL:https://ideesorties.fr/events/grande-vente-dusine/
END:VEVENT
END:VCALENDAR