BEGIN:VCALENDAR
VERSION:2.0
PRODID:-//eventon.com NONSGML v1.0//EN
CALSCALE:GREGORIAN
METHOD:PUBLISH
BEGIN:VEVENT
UID:69e5f6cb8fd42
DTSTAMP:20260420T095003Z
DTSTART:20260106T130000Z
DTEND:20260128T130000Z
LOCATION:Médiathèque de Lille-Moulins 8 All. de la Filature\,  59000 Lille
SUMMARY:Exposition Jeunesse: l’univers de Mathias Friman
DESCRIPTION:🌿 Envie de sensibiliser les enfants — et les grands — à
  la beauté de la nature et à l’écologie ? Venez découvrir l’exposit
 ion jeunesse « L’univers de Mathias Friman » à la Médiathèque de Lil
 le‑Moulins. À travers ses illustrations poétiques\,  l’illustrateur i
 nvite tout le monde à observer\,  comprendre… et[..]\nhttps://ideesortie
 s.fr/events/exposition-jeunesse-lunivers-de-mathias-friman/
URL:https://ideesorties.fr/events/exposition-jeunesse-lunivers-de-mathias-friman/
END:VEVENT
END:VCALENDAR