BEGIN:VCALENDAR
VERSION:2.0
PRODID:-//eventon.com NONSGML v1.0//EN
CALSCALE:GREGORIAN
METHOD:PUBLISH
BEGIN:VEVENT
UID:69e5f7e3561f7
DTSTAMP:20260420T095443Z
DTSTART:20251118T080000Z
DTEND:20251118T130000Z
LOCATION:Complexe Sportif Paul Langevin Rue Paul Langevin\,  59119 Waziers
SUMMARY:WAZIERS - LES ATELIERS DE L'INDUSTRIE 4.0
DESCRIPTION:4ᵉ édition des Ateliers de l’Industrie 4.0 Cette journée 
 territoriale a pour but de présenter les métiers de l’industrie à tout
 es les personnes qui souhaitent en savoir plus\,  qu’il s’agisse de dem
 andeurs d’emploi\,  de personnes en reconversion ou de publics en formati
 on. Elle permet également aux entreprises locales de mettre[..]\nhttps://i
 deesorties.fr/events/waziers-les-ateliers-de-lindustrie-4-0/
URL:https://ideesorties.fr/events/waziers-les-ateliers-de-lindustrie-4-0/
END:VEVENT
END:VCALENDAR