BEGIN:VCALENDAR
VERSION:2.0
PRODID:-//eventon.com NONSGML v1.0//EN
CALSCALE:GREGORIAN
METHOD:PUBLISH
BEGIN:VEVENT
UID:69e5e58164181
DTSTAMP:20260420T083617Z
DTSTART:20251106T093000Z
DTEND:20251106T180000Z
LOCATION:Salle Watremez 16 rue du grand chemin 59100 Roubaix
SUMMARY:ROUBAIX - Don du sang
DESCRIPTION:Participez à la collecte de sang et aidez à sauver des vies !
  Lien de réservation : https://dondesang.efs.sante.fr/trouver-une-collecte
 /144132/sang/06-10-2025\nhttps://ideesorties.fr/events/roubaix-don-du-sang/
URL:https://ideesorties.fr/events/roubaix-don-du-sang/
END:VEVENT
END:VCALENDAR