BEGIN:VCALENDAR
VERSION:2.0
PRODID:-//eventon.com NONSGML v1.0//EN
CALSCALE:GREGORIAN
METHOD:PUBLISH
BEGIN:VEVENT
UID:69e5e57c61b79
DTSTAMP:20260420T083612Z
DTSTART:20251102T150000Z
DTEND:20251102T160000Z
LOCATION:MUba Eugène Leroy 2 rue Paul Doumer 59200 Tourcoing
SUMMARY:TOURCOING - Visite du dimanche
DESCRIPTION:La Visite du dimanche est une pause culturelle et relaxante dan
 s l&rsquo;exposition. Accompagné d&rsquo;un médiateur\,  profitez d&rsquo
 ;un moment privilégié pour échanger\,  partager vos points de vue et dé
 couvrir le travail des artistes à votre rythme.\nhttps://ideesorties.fr/ev
 ents/tourcoing-visite-du-dimanche/
URL:https://ideesorties.fr/events/tourcoing-visite-du-dimanche/
END:VEVENT
END:VCALENDAR