BEGIN:VCALENDAR
VERSION:2.0
PRODID:-//eventon.com NONSGML v1.0//EN
CALSCALE:GREGORIAN
METHOD:PUBLISH
BEGIN:VEVENT
UID:69e60c275caf6
DTSTAMP:20260420T112111Z
DTSTART:20251031T170000Z
DTEND:20251101T225900Z
LOCATION:Phare de Tourcoing 1A Rue de l'Epideme\,  59200 Tourcoing
SUMMARY:Tourcoing - Rodando : Culture Moto et Día de los Muertos
DESCRIPTION:Rodando – 1ère édition au Phare de Tourcoing !Du vendredi 3
 1 octobre au samedi 1er novembre 2025\,  embarquez pour Rodando\,  un week-
 end inédit mêlant culture moto et Día de los Muertos au Phare de Tourcoi
 ng. Deux jours pour célébrer la liberté\,  la mémoire et la passion du 
 deux-roues dans une[..]\nhttps://ideesorties.fr/events/tourcoing-rodando-cu
 lture-moto-et-dia-de-los-muertos/
URL:https://ideesorties.fr/events/tourcoing-rodando-culture-moto-et-dia-de-los-muertos/
END:VEVENT
END:VCALENDAR